BEGIN:VCALENDAR
VERSION:2.0
PRODID:-//Blacksburg Museum and Cultural Foundation - ECPv6.15.20//NONSGML v1.0//EN
CALSCALE:GREGORIAN
METHOD:PUBLISH
X-ORIGINAL-URL:https://blacksburgmuseum.org
X-WR-CALDESC:Events for Blacksburg Museum and Cultural Foundation
REFRESH-INTERVAL;VALUE=DURATION:PT1H
X-Robots-Tag:noindex
X-PUBLISHED-TTL:PT1H
BEGIN:VTIMEZONE
TZID:UTC
BEGIN:STANDARD
TZOFFSETFROM:+0000
TZOFFSETTO:+0000
TZNAME:UTC
DTSTART:20250101T000000
END:STANDARD
END:VTIMEZONE
BEGIN:VEVENT
DTSTART;TZID=UTC:20260606T120000
DTEND;TZID=UTC:20260606T170000
DTSTAMP:20260421T210126
CREATED:20260104T172035Z
LAST-MODIFIED:20260104T172035Z
UID:10000230-1780747200-1780765200@blacksburgmuseum.org
SUMMARY:New Town Festival Gospel Sing
DESCRIPTION:Join us for the 9th annual Gospel Sing\, part of our New Town Festival Series\, Saturday\, June 6 from 12:00 to 5:00pm. \nSchedule and details will be updated soon! \nThis is a FREE event\, though donations are encouraged.
URL:https://blacksburgmuseum.org/event/new-town-festival-gospel-sing-3/
LOCATION:St. Luke & Odd Fellows Hall\, 203 Gilbert Street\, Blacksburg\, VA\, 24060
CATEGORIES:Events,St. Luke and Odd Fellows Hall
ATTACH;FMTTYPE=image/png:https://blacksburgmuseum.org/wp-content/uploads/2026/01/Gospel-Sing-Website-FB-1920-x-900-px-1.png
END:VEVENT
BEGIN:VEVENT
DTSTART;TZID=UTC:20260919T120000
DTEND;TZID=UTC:20260919T170000
DTSTAMP:20260421T210126
CREATED:20260209T235833Z
LAST-MODIFIED:20260421T204407Z
UID:10000372-1789819200-1789837200@blacksburgmuseum.org
SUMMARY:Blues\, Brews & BBQ
DESCRIPTION:Mark your calendar for our annual Blues\, Brews\, & BBQ event on Saturday\, September 19 at St. Luke & Odd Fellows Hall\, a nationally recognized historic landmark that once served as the social center of New Town\, a neighborhood for Black residents during segregation.\n\nJoJo Stockton\, Seedpicker\, and Lady D will join us this year!\n\nFree of charge – $10 donation suggested. \n\n\nThank you to our Stage Sponsor\, National Bank of Blacksburg!
URL:https://blacksburgmuseum.org/event/blues-brews-bbq-4/
LOCATION:St. Luke & Odd Fellows Hall\, 203 Gilbert Street\, Blacksburg\, VA\, 24060
CATEGORIES:Events,St. Luke and Odd Fellows Hall
ATTACH;FMTTYPE=image/png:https://blacksburgmuseum.org/wp-content/uploads/2026/02/2026-Save-the-Date-FB-Event.png
END:VEVENT
END:VCALENDAR