BEGIN:VCALENDAR
VERSION:2.0
PRODID:-//Blacksburg Museum and Cultural Foundation - ECPv6.15.20//NONSGML v1.0//EN
CALSCALE:GREGORIAN
METHOD:PUBLISH
X-WR-CALNAME:Blacksburg Museum and Cultural Foundation
X-ORIGINAL-URL:https://blacksburgmuseum.org
X-WR-CALDESC:Events for Blacksburg Museum and Cultural Foundation
REFRESH-INTERVAL;VALUE=DURATION:PT1H
X-Robots-Tag:noindex
X-PUBLISHED-TTL:PT1H
BEGIN:VTIMEZONE
TZID:UTC
BEGIN:STANDARD
TZOFFSETFROM:+0000
TZOFFSETTO:+0000
TZNAME:UTC
DTSTART:20240101T000000
END:STANDARD
END:VTIMEZONE
BEGIN:VEVENT
DTSTART;VALUE=DATE:20251129
DTEND;VALUE=DATE:20260103
DTSTAMP:20260419T170704
CREATED:20260113T161101Z
LAST-MODIFIED:20260113T172845Z
UID:10000368-1764374400-1767398399@blacksburgmuseum.org
SUMMARY:Holiday Trees with DBI
DESCRIPTION:We are partnering with Downtown Blacksburg\, Inc. to bring 15 community business trees to life at the museum! Vote on your favorite and brush up on holiday rituals during the Victorian era!
URL:https://blacksburgmuseum.org/event/holiday-trees-with-dbi/
CATEGORIES:Events,History Exhibits
ATTACH;FMTTYPE=image/png:https://blacksburgmuseum.org/wp-content/uploads/2026/01/Holiday-Trees-at-Blacksburg-Museum-voting-1080-x-1080-px.png
END:VEVENT
END:VCALENDAR