BEGIN:VCALENDAR
VERSION:2.0
PRODID:-//Blacksburg Museum and Cultural Foundation - ECPv6.15.20//NONSGML v1.0//EN
CALSCALE:GREGORIAN
METHOD:PUBLISH
X-WR-CALNAME:Blacksburg Museum and Cultural Foundation
X-ORIGINAL-URL:https://blacksburgmuseum.org
X-WR-CALDESC:Events for Blacksburg Museum and Cultural Foundation
REFRESH-INTERVAL;VALUE=DURATION:PT1H
X-Robots-Tag:noindex
X-PUBLISHED-TTL:PT1H
BEGIN:VTIMEZONE
TZID:UTC
BEGIN:STANDARD
TZOFFSETFROM:+0000
TZOFFSETTO:+0000
TZNAME:UTC
DTSTART:20240101T000000
END:STANDARD
END:VTIMEZONE
BEGIN:VEVENT
DTSTART;VALUE=DATE:20250930
DTEND;VALUE=DATE:20251119
DTSTAMP:20260421T102242
CREATED:20250818T204456Z
LAST-MODIFIED:20250818T204717Z
UID:10000159-1759190400-1763510399@blacksburgmuseum.org
SUMMARY:Main Gallery Exhibit: The Art of Goodbye
DESCRIPTION:On exhibit in the Main Gallery\nSeptember 30 – November 18
URL:https://blacksburgmuseum.org/event/the-art-of-goodbye-exhibit/
LOCATION:Alexander Black House\, 204 Draper Rd SW\, Blacksburg\, VA\, 24060\, United States
CATEGORIES:History Exhibits
ATTACH;FMTTYPE=image/png:https://blacksburgmuseum.org/wp-content/uploads/2025/08/Art-of-Goodbye-Exhibit-Opening-1920-x-1080-px.png
END:VEVENT
BEGIN:VEVENT
DTSTART;TZID=UTC:20251003T170000
DTEND;TZID=UTC:20251003T200000
DTSTAMP:20260421T102242
CREATED:20250818T203802Z
LAST-MODIFIED:20250819T174843Z
UID:10000158-1759510800-1759521600@blacksburgmuseum.org
SUMMARY:The Art of Goodbye Exhibit Opening
DESCRIPTION:During October’s Art Walk\, come explore the ways in which mourning and death rituals have evolved through the Colonial\, Victorian and Modern eras. We will be exhibiting a range of artifacts from local gravestone rubbings\, hair jewelry and mourning attire to items from the McCoy Funeral Home private collection. \n\nAs part of this exhibit\, we welcome you to partake in events throughout spooky season including:\n* gravestone rubbing & cemetery walks* haunted history tours* post-mortem art and photography talks* seances and tarot card readings\n* epitaph writing* costume competitions\n\n* Halloween party at the museum on October 31 \n\n\nDetails and pricing for all events will be coming soon! \n\nAnd if you are a museum member\, you may join us at 4:00 for a cocktail hour featuring spooky seasonal drinks hosted by JH Bards. If you would like to become a member any time before this special event\, please visit our Membership Page.\n\n\nTHANK YOU TO OUR PARTNERS:\nNew River Art & Fiber\, Botetourt County Historical Society\, NRV Historical Costume Society\, Westview Cemetery\, JH Bards\, McCoy Funeral Home\, Taubman Museum of Art\, and more to come!
URL:https://blacksburgmuseum.org/event/4167/
LOCATION:Alexander Black House\, 204 Draper Rd SW\, Blacksburg\, VA\, 24060\, United States
CATEGORIES:Events,History Exhibits
ATTACH;FMTTYPE=image/png:https://blacksburgmuseum.org/wp-content/uploads/2025/08/Art-of-Goodbye-Exhibit-Opening-1920-x-1080-px.png
END:VEVENT
END:VCALENDAR