BEGIN:VCALENDAR
VERSION:2.0
PRODID:-//Blacksburg Museum and Cultural Foundation - ECPv6.15.20//NONSGML v1.0//EN
CALSCALE:GREGORIAN
METHOD:PUBLISH
X-WR-CALNAME:Blacksburg Museum and Cultural Foundation
X-ORIGINAL-URL:https://blacksburgmuseum.org
X-WR-CALDESC:Events for Blacksburg Museum and Cultural Foundation
REFRESH-INTERVAL;VALUE=DURATION:PT1H
X-Robots-Tag:noindex
X-PUBLISHED-TTL:PT1H
BEGIN:VTIMEZONE
TZID:UTC
BEGIN:STANDARD
TZOFFSETFROM:+0000
TZOFFSETTO:+0000
TZNAME:UTC
DTSTART:20240101T000000
END:STANDARD
END:VTIMEZONE
BEGIN:VEVENT
DTSTART;TZID=UTC:20250321T183000
DTEND;TZID=UTC:20250321T200000
DTSTAMP:20260422T024217
CREATED:20250317T152245Z
LAST-MODIFIED:20250317T152431Z
UID:10000150-1742581800-1742587200@blacksburgmuseum.org
SUMMARY:Education Exhibit Opening
DESCRIPTION:Members-Only Reception with Panel Discussion – 5:30-6:30pm\nGeneral Public Opening – 6:00-8:00pm\n\n\n  \nPlease join us as we officially open our Education Room exhibit! \n\n\nSince we consider this a community project\, we will continue accepting relevant items that help tell a well-rounded story about education in Blacksburg and the surrounding area. We are looking for artifacts\, books\, photographs\, memorabilia\, oral histories\, stories\, documents and more. Your donations and/or loans can potentially help us complete the historic record of our area’s education system in all its challenges\, triumphs\, and milestones. \n\nFeel free to bring items for consideration during our opening as well or just stop by to see what may fit the room!
URL:https://blacksburgmuseum.org/event/education-exhibit-opening/
CATEGORIES:Events,History Exhibits
ATTACH;FMTTYPE=image/png:https://blacksburgmuseum.org/wp-content/uploads/2025/03/Education-Room-Opening.png
END:VEVENT
END:VCALENDAR