BEGIN:VCALENDAR
VERSION:2.0
PRODID:-//Blacksburg Museum and Cultural Foundation - ECPv6.15.20//NONSGML v1.0//EN
CALSCALE:GREGORIAN
METHOD:PUBLISH
X-WR-CALNAME:Blacksburg Museum and Cultural Foundation
X-ORIGINAL-URL:https://blacksburgmuseum.org
X-WR-CALDESC:Events for Blacksburg Museum and Cultural Foundation
REFRESH-INTERVAL;VALUE=DURATION:PT1H
X-Robots-Tag:noindex
X-PUBLISHED-TTL:PT1H
BEGIN:VTIMEZONE
TZID:UTC
BEGIN:STANDARD
TZOFFSETFROM:+0000
TZOFFSETTO:+0000
TZNAME:UTC
DTSTART:20250101T000000
END:STANDARD
END:VTIMEZONE
BEGIN:VEVENT
DTSTART;TZID=UTC:20260207T130000
DTEND;TZID=UTC:20260207T160000
DTSTAMP:20260419T220010
CREATED:20260104T173730Z
LAST-MODIFIED:20260104T173913Z
UID:10000236-1770469200-1770480000@blacksburgmuseum.org
SUMMARY:Genealogy Saturday
DESCRIPTION:Join Carol Smith and Don Braffitt in the Ronnie and Faye Marcum Blacksburg History and Genealogy Room at The Alexander Black House for our monthly Genealogy Saturday the first Saturday of each month. Carol and Don will be on hand to assist you as you explore your family tree. They will be able to demonstrate starting your family tree or help you conduct a deeper dive into specialized areas of genealogy. Come with questions about research and discovering your roots or come with no knowledge of your family and let them guide you. Just Come! Free and open to the public. For helpful family tree templates\, visit our Genealogy Page.
URL:https://blacksburgmuseum.org/event/genealogy-saturday-10-2/2026-02-07/
CATEGORIES:Genealogy
ATTACH;FMTTYPE=image/png:https://blacksburgmuseum.org/wp-content/uploads/2024/02/Copy-of-Website-Membership-Infographic-1640-×-700-px.png
END:VEVENT
BEGIN:VEVENT
DTSTART;TZID=UTC:20260307T130000
DTEND;TZID=UTC:20260307T160000
DTSTAMP:20260419T220010
CREATED:20260104T173730Z
LAST-MODIFIED:20260104T173913Z
UID:10000237-1772888400-1772899200@blacksburgmuseum.org
SUMMARY:Genealogy Saturday
DESCRIPTION:Join Carol Smith and Don Braffitt in the Ronnie and Faye Marcum Blacksburg History and Genealogy Room at The Alexander Black House for our monthly Genealogy Saturday the first Saturday of each month. Carol and Don will be on hand to assist you as you explore your family tree. They will be able to demonstrate starting your family tree or help you conduct a deeper dive into specialized areas of genealogy. Come with questions about research and discovering your roots or come with no knowledge of your family and let them guide you. Just Come! Free and open to the public. For helpful family tree templates\, visit our Genealogy Page.
URL:https://blacksburgmuseum.org/event/genealogy-saturday-10-2/2026-03-07/
CATEGORIES:Genealogy
ATTACH;FMTTYPE=image/png:https://blacksburgmuseum.org/wp-content/uploads/2024/02/Copy-of-Website-Membership-Infographic-1640-×-700-px.png
END:VEVENT
BEGIN:VEVENT
DTSTART;TZID=UTC:20260404T130000
DTEND;TZID=UTC:20260404T160000
DTSTAMP:20260419T220010
CREATED:20260104T173730Z
LAST-MODIFIED:20260104T173913Z
UID:10000238-1775307600-1775318400@blacksburgmuseum.org
SUMMARY:Genealogy Saturday
DESCRIPTION:Join Carol Smith and Don Braffitt in the Ronnie and Faye Marcum Blacksburg History and Genealogy Room at The Alexander Black House for our monthly Genealogy Saturday the first Saturday of each month. Carol and Don will be on hand to assist you as you explore your family tree. They will be able to demonstrate starting your family tree or help you conduct a deeper dive into specialized areas of genealogy. Come with questions about research and discovering your roots or come with no knowledge of your family and let them guide you. Just Come! Free and open to the public. For helpful family tree templates\, visit our Genealogy Page.
URL:https://blacksburgmuseum.org/event/genealogy-saturday-10-2/2026-04-04/
CATEGORIES:Genealogy
ATTACH;FMTTYPE=image/png:https://blacksburgmuseum.org/wp-content/uploads/2024/02/Copy-of-Website-Membership-Infographic-1640-×-700-px.png
END:VEVENT
BEGIN:VEVENT
DTSTART;TZID=UTC:20260502T130000
DTEND;TZID=UTC:20260502T160000
DTSTAMP:20260419T220010
CREATED:20260104T173730Z
LAST-MODIFIED:20260104T173913Z
UID:10000239-1777726800-1777737600@blacksburgmuseum.org
SUMMARY:Genealogy Saturday
DESCRIPTION:Join Carol Smith and Don Braffitt in the Ronnie and Faye Marcum Blacksburg History and Genealogy Room at The Alexander Black House for our monthly Genealogy Saturday the first Saturday of each month. Carol and Don will be on hand to assist you as you explore your family tree. They will be able to demonstrate starting your family tree or help you conduct a deeper dive into specialized areas of genealogy. Come with questions about research and discovering your roots or come with no knowledge of your family and let them guide you. Just Come! Free and open to the public. For helpful family tree templates\, visit our Genealogy Page.
URL:https://blacksburgmuseum.org/event/genealogy-saturday-10-2/2026-05-02/
CATEGORIES:Genealogy
ATTACH;FMTTYPE=image/png:https://blacksburgmuseum.org/wp-content/uploads/2024/02/Copy-of-Website-Membership-Infographic-1640-×-700-px.png
END:VEVENT
BEGIN:VEVENT
DTSTART;TZID=UTC:20260606T130000
DTEND;TZID=UTC:20260606T160000
DTSTAMP:20260419T220010
CREATED:20260104T173730Z
LAST-MODIFIED:20260104T173913Z
UID:10000240-1780750800-1780761600@blacksburgmuseum.org
SUMMARY:Genealogy Saturday
DESCRIPTION:Join Carol Smith and Don Braffitt in the Ronnie and Faye Marcum Blacksburg History and Genealogy Room at The Alexander Black House for our monthly Genealogy Saturday the first Saturday of each month. Carol and Don will be on hand to assist you as you explore your family tree. They will be able to demonstrate starting your family tree or help you conduct a deeper dive into specialized areas of genealogy. Come with questions about research and discovering your roots or come with no knowledge of your family and let them guide you. Just Come! Free and open to the public. For helpful family tree templates\, visit our Genealogy Page.
URL:https://blacksburgmuseum.org/event/genealogy-saturday-10-2/2026-06-06/
CATEGORIES:Genealogy
ATTACH;FMTTYPE=image/png:https://blacksburgmuseum.org/wp-content/uploads/2024/02/Copy-of-Website-Membership-Infographic-1640-×-700-px.png
END:VEVENT
BEGIN:VEVENT
DTSTART;TZID=UTC:20260704T130000
DTEND;TZID=UTC:20260704T160000
DTSTAMP:20260419T220010
CREATED:20260104T173730Z
LAST-MODIFIED:20260104T173913Z
UID:10000241-1783170000-1783180800@blacksburgmuseum.org
SUMMARY:Genealogy Saturday
DESCRIPTION:Join Carol Smith and Don Braffitt in the Ronnie and Faye Marcum Blacksburg History and Genealogy Room at The Alexander Black House for our monthly Genealogy Saturday the first Saturday of each month. Carol and Don will be on hand to assist you as you explore your family tree. They will be able to demonstrate starting your family tree or help you conduct a deeper dive into specialized areas of genealogy. Come with questions about research and discovering your roots or come with no knowledge of your family and let them guide you. Just Come! Free and open to the public. For helpful family tree templates\, visit our Genealogy Page.
URL:https://blacksburgmuseum.org/event/genealogy-saturday-10-2/2026-07-04/
CATEGORIES:Genealogy
ATTACH;FMTTYPE=image/png:https://blacksburgmuseum.org/wp-content/uploads/2024/02/Copy-of-Website-Membership-Infographic-1640-×-700-px.png
END:VEVENT
BEGIN:VEVENT
DTSTART;TZID=UTC:20260801T130000
DTEND;TZID=UTC:20260801T160000
DTSTAMP:20260419T220010
CREATED:20260104T173730Z
LAST-MODIFIED:20260104T173913Z
UID:10000242-1785589200-1785600000@blacksburgmuseum.org
SUMMARY:Genealogy Saturday
DESCRIPTION:Join Carol Smith and Don Braffitt in the Ronnie and Faye Marcum Blacksburg History and Genealogy Room at The Alexander Black House for our monthly Genealogy Saturday the first Saturday of each month. Carol and Don will be on hand to assist you as you explore your family tree. They will be able to demonstrate starting your family tree or help you conduct a deeper dive into specialized areas of genealogy. Come with questions about research and discovering your roots or come with no knowledge of your family and let them guide you. Just Come! Free and open to the public. For helpful family tree templates\, visit our Genealogy Page.
URL:https://blacksburgmuseum.org/event/genealogy-saturday-10-2/2026-08-01/
CATEGORIES:Genealogy
ATTACH;FMTTYPE=image/png:https://blacksburgmuseum.org/wp-content/uploads/2024/02/Copy-of-Website-Membership-Infographic-1640-×-700-px.png
END:VEVENT
BEGIN:VEVENT
DTSTART;TZID=UTC:20260905T130000
DTEND;TZID=UTC:20260905T160000
DTSTAMP:20260419T220010
CREATED:20260104T173730Z
LAST-MODIFIED:20260104T173913Z
UID:10000243-1788613200-1788624000@blacksburgmuseum.org
SUMMARY:Genealogy Saturday
DESCRIPTION:Join Carol Smith and Don Braffitt in the Ronnie and Faye Marcum Blacksburg History and Genealogy Room at The Alexander Black House for our monthly Genealogy Saturday the first Saturday of each month. Carol and Don will be on hand to assist you as you explore your family tree. They will be able to demonstrate starting your family tree or help you conduct a deeper dive into specialized areas of genealogy. Come with questions about research and discovering your roots or come with no knowledge of your family and let them guide you. Just Come! Free and open to the public. For helpful family tree templates\, visit our Genealogy Page.
URL:https://blacksburgmuseum.org/event/genealogy-saturday-10-2/2026-09-05/
CATEGORIES:Genealogy
ATTACH;FMTTYPE=image/png:https://blacksburgmuseum.org/wp-content/uploads/2024/02/Copy-of-Website-Membership-Infographic-1640-×-700-px.png
END:VEVENT
BEGIN:VEVENT
DTSTART;TZID=UTC:20261003T130000
DTEND;TZID=UTC:20261003T160000
DTSTAMP:20260419T220010
CREATED:20260104T173730Z
LAST-MODIFIED:20260104T173913Z
UID:10000244-1791032400-1791043200@blacksburgmuseum.org
SUMMARY:Genealogy Saturday
DESCRIPTION:Join Carol Smith and Don Braffitt in the Ronnie and Faye Marcum Blacksburg History and Genealogy Room at The Alexander Black House for our monthly Genealogy Saturday the first Saturday of each month. Carol and Don will be on hand to assist you as you explore your family tree. They will be able to demonstrate starting your family tree or help you conduct a deeper dive into specialized areas of genealogy. Come with questions about research and discovering your roots or come with no knowledge of your family and let them guide you. Just Come! Free and open to the public. For helpful family tree templates\, visit our Genealogy Page.
URL:https://blacksburgmuseum.org/event/genealogy-saturday-10-2/2026-10-03/
CATEGORIES:Genealogy
ATTACH;FMTTYPE=image/png:https://blacksburgmuseum.org/wp-content/uploads/2024/02/Copy-of-Website-Membership-Infographic-1640-×-700-px.png
END:VEVENT
BEGIN:VEVENT
DTSTART;TZID=UTC:20261107T130000
DTEND;TZID=UTC:20261107T160000
DTSTAMP:20260419T220010
CREATED:20260104T173730Z
LAST-MODIFIED:20260104T173913Z
UID:10000245-1794056400-1794067200@blacksburgmuseum.org
SUMMARY:Genealogy Saturday
DESCRIPTION:Join Carol Smith and Don Braffitt in the Ronnie and Faye Marcum Blacksburg History and Genealogy Room at The Alexander Black House for our monthly Genealogy Saturday the first Saturday of each month. Carol and Don will be on hand to assist you as you explore your family tree. They will be able to demonstrate starting your family tree or help you conduct a deeper dive into specialized areas of genealogy. Come with questions about research and discovering your roots or come with no knowledge of your family and let them guide you. Just Come! Free and open to the public. For helpful family tree templates\, visit our Genealogy Page.
URL:https://blacksburgmuseum.org/event/genealogy-saturday-10-2/2026-11-07/
CATEGORIES:Genealogy
ATTACH;FMTTYPE=image/png:https://blacksburgmuseum.org/wp-content/uploads/2024/02/Copy-of-Website-Membership-Infographic-1640-×-700-px.png
END:VEVENT
BEGIN:VEVENT
DTSTART;TZID=UTC:20261205T130000
DTEND;TZID=UTC:20261205T160000
DTSTAMP:20260419T220010
CREATED:20260104T173730Z
LAST-MODIFIED:20260104T173913Z
UID:10000246-1796475600-1796486400@blacksburgmuseum.org
SUMMARY:Genealogy Saturday
DESCRIPTION:Join Carol Smith and Don Braffitt in the Ronnie and Faye Marcum Blacksburg History and Genealogy Room at The Alexander Black House for our monthly Genealogy Saturday the first Saturday of each month. Carol and Don will be on hand to assist you as you explore your family tree. They will be able to demonstrate starting your family tree or help you conduct a deeper dive into specialized areas of genealogy. Come with questions about research and discovering your roots or come with no knowledge of your family and let them guide you. Just Come! Free and open to the public. For helpful family tree templates\, visit our Genealogy Page.
URL:https://blacksburgmuseum.org/event/genealogy-saturday-10-2/2026-12-05/
CATEGORIES:Genealogy
ATTACH;FMTTYPE=image/png:https://blacksburgmuseum.org/wp-content/uploads/2024/02/Copy-of-Website-Membership-Infographic-1640-×-700-px.png
END:VEVENT
END:VCALENDAR