BEGIN:VCALENDAR
VERSION:2.0
PRODID:-//Blacksburg Museum and Cultural Foundation - ECPv6.15.20//NONSGML v1.0//EN
CALSCALE:GREGORIAN
METHOD:PUBLISH
X-WR-CALNAME:Blacksburg Museum and Cultural Foundation
X-ORIGINAL-URL:https://blacksburgmuseum.org
X-WR-CALDESC:Events for Blacksburg Museum and Cultural Foundation
REFRESH-INTERVAL;VALUE=DURATION:PT1H
X-Robots-Tag:noindex
X-PUBLISHED-TTL:PT1H
BEGIN:VTIMEZONE
TZID:UTC
BEGIN:STANDARD
TZOFFSETFROM:+0000
TZOFFSETTO:+0000
TZNAME:UTC
DTSTART:20240101T000000
END:STANDARD
END:VTIMEZONE
BEGIN:VEVENT
DTSTART;VALUE=DATE:20250618
DTEND;VALUE=DATE:20250917
DTSTAMP:20260419T170816
CREATED:20250307T151604Z
LAST-MODIFIED:20250613T213312Z
UID:10000149-1750204800-1758067199@blacksburgmuseum.org
SUMMARY:Main Gallery Exhibit: Blacksburg Regional Art Association Theme Show - Poetry in Art
DESCRIPTION:Blacksburg Regional Art Association Annual Theme Show. This year’s theme is “Celebrating Poetry in Art” and includes a wide variety of work\, covering many mediums and much poem inspiration. The opening reception of this poetry and art convergence is June 18 from 5:00-8:00pm or visit throughout the show run.
URL:https://blacksburgmuseum.org/event/main-gallery-exhibit-blacksburg-regional-art-association-theme-show-poetry-in-art/
LOCATION:VA
CATEGORIES:Art Exhibits
ATTACH;FMTTYPE=image/png:https://blacksburgmuseum.org/wp-content/uploads/2025/03/2025-BRAA-Exhibit-Graphic-1-scaled.png
END:VEVENT
BEGIN:VEVENT
DTSTART;TZID=UTC:20250618T170000
DTEND;TZID=UTC:20250618T200000
DTSTAMP:20260419T170816
CREATED:20250612T225602Z
LAST-MODIFIED:20250613T213751Z
UID:10000155-1750266000-1750276800@blacksburgmuseum.org
SUMMARY:BRAA Theme Show Exhibit
DESCRIPTION:Help us celebrate Blacksburg Regional Art Association artists as they open the organization’s annual juried and judged theme show. This year’s theme is “Celebrating Poetry in Art” and includes 57 pieces. Join us for the opening reception on June 18 from 5:00-8:00pm or visit throughout the show run – June 18 – September 16.
URL:https://blacksburgmuseum.org/event/braa-theme-show-exhibit/
LOCATION:VA
CATEGORIES:Art Exhibits,Events
ATTACH;FMTTYPE=image/png:https://blacksburgmuseum.org/wp-content/uploads/2025/06/2025-BRAA-Exhibit-Graphic-2-scaled.png
END:VEVENT
END:VCALENDAR