BEGIN:VCALENDAR
VERSION:2.0
PRODID:-//Blacksburg Museum and Cultural Foundation - ECPv6.15.20//NONSGML v1.0//EN
CALSCALE:GREGORIAN
METHOD:PUBLISH
X-ORIGINAL-URL:https://blacksburgmuseum.org
X-WR-CALDESC:Events for Blacksburg Museum and Cultural Foundation
REFRESH-INTERVAL;VALUE=DURATION:PT1H
X-Robots-Tag:noindex
X-PUBLISHED-TTL:PT1H
BEGIN:VTIMEZONE
TZID:UTC
BEGIN:STANDARD
TZOFFSETFROM:+0000
TZOFFSETTO:+0000
TZNAME:UTC
DTSTART:20240101T000000
END:STANDARD
END:VTIMEZONE
BEGIN:VEVENT
DTSTART;VALUE=DATE:20250401
DTEND;VALUE=DATE:20250607
DTSTAMP:20260419T124732
CREATED:20250307T150702Z
LAST-MODIFIED:20250403T180638Z
UID:10000148-1743465600-1749254399@blacksburgmuseum.org
SUMMARY:Main Gallery Exhibit: Matt Gentry
DESCRIPTION:Regional Road Trip – Plein Air Paintings of the New River Valley and Beyond\n\n“Regional Road Trip” consists of original watercolors\, framed prints\, and Appalachian Trail sketches in addition to a colorful array of Matt’s journals\, all of which he has emphatically stated he wants visitors to thumb through. And if you know Matt\, he means it! After all\, one of his greatest joys in doing this type of traveling art is seeing us enjoy the journey. \nExhibit runs April 1 – June 6 \n\n 
URL:https://blacksburgmuseum.org/event/main-gallery-exhibit-matt-gentry/
LOCATION:Alexander Black House\, 204 Draper Rd SW\, Blacksburg\, VA\, 24060\, United States
CATEGORIES:Art Exhibits,Events
ATTACH;FMTTYPE=image/jpeg:https://blacksburgmuseum.org/wp-content/uploads/2025/03/Gentry-Show-Info-1-scaled.jpg
END:VEVENT
BEGIN:VEVENT
DTSTART;TZID=UTC:20250404T170000
DTEND;TZID=UTC:20250404T200000
DTSTAMP:20260419T124732
CREATED:20250325T172949Z
LAST-MODIFIED:20250403T180710Z
UID:10000151-1743786000-1743796800@blacksburgmuseum.org
SUMMARY:Matt Gentry Opening Reception
DESCRIPTION:As part of Downtown Blacksburg Inc.’s Art Walk activities tomorrow evening\, we will be open from 5-8pm with an exhibit opening reception for Matt Gentry’s plein air watercolor pieces. “Regional Road Trip” consists of original watercolors\, framed prints\, and Appalachian Trail sketches in addition to a colorful array of Matt’s journals\, all of which he has emphatically stated he wants visitors to thumb through. And if you know Matt\, he means it! After all\, one of his greatest joys in doing this type of traveling art is seeing us enjoy the journey. \nAdditionally\, alongside our reception food and in keeping with the theme\, we will offer delectables fitting for a walk or hike outdoors. Perfect for our beautiful Spring weather! \nWe thank our rotating art exhibit sponsor\, Shelter Alternatives\, Inc.!
URL:https://blacksburgmuseum.org/event/matt-gentry-opening-reception/
LOCATION:VA
CATEGORIES:Art Exhibits,Events
ATTACH;FMTTYPE=image/jpeg:https://blacksburgmuseum.org/wp-content/uploads/2025/03/promo-photo-scaled.jpg
END:VEVENT
END:VCALENDAR