BEGIN:VCALENDAR
VERSION:2.0
PRODID:-//Blacksburg Museum and Cultural Foundation - ECPv6.15.20//NONSGML v1.0//EN
CALSCALE:GREGORIAN
METHOD:PUBLISH
X-ORIGINAL-URL:https://blacksburgmuseum.org
X-WR-CALDESC:Events for Blacksburg Museum and Cultural Foundation
REFRESH-INTERVAL;VALUE=DURATION:PT1H
X-Robots-Tag:noindex
X-PUBLISHED-TTL:PT1H
BEGIN:VTIMEZONE
TZID:UTC
BEGIN:STANDARD
TZOFFSETFROM:+0000
TZOFFSETTO:+0000
TZNAME:UTC
DTSTART:20230101T000000
END:STANDARD
END:VTIMEZONE
BEGIN:VEVENT
DTSTART;TZID=UTC:20240111T190000
DTEND;TZID=UTC:20240111T210000
DTSTAMP:20260419T140854
CREATED:20240111T173421Z
LAST-MODIFIED:20240111T173421Z
UID:10000019-1704999600-1705006800@blacksburgmuseum.org
SUMMARY:Winter Old Time Jam
DESCRIPTION:Calling all musicians and music lovers! There is plenty of room in the galleries for players and guests\, so come pick a tune or sit back and listen. No host bands or registration necessary – just come as you are!
URL:https://blacksburgmuseum.org/event/winter-old-time-jam-2/
LOCATION:Alexander Black House\, 204 Draper Rd SW\, Blacksburg\, VA\, 24060\, United States
CATEGORIES:Events
ATTACH;FMTTYPE=image/png:https://blacksburgmuseum.org/wp-content/uploads/2024/01/2024-Winter-Old-Time-Jam-1920-×-1080-px.png
END:VEVENT
END:VCALENDAR